BEGIN:VCALENDAR
VERSION:2.0
PRODID:-//Tukios.com/
BEGIN:VEVENT
UID:4b27b11f-41c5-4fa0-aa73-f2caa63a1c09@www.peckandpeck.net
DTSTAMP:20260420T042654Z
DTSTART:20260423T210000Z
DTEND:20260424T000000Z
SUMMARY:Celebration of Life
DESCRIPTION:
URL:https://www.peckandpeck.net/obituaries/bruce-pecorella
LOCATION:The Stissing Center 2950 West Church Street  Pine Plains NY 
	12567
GEO:41.9796378;-73.6571565
END:VEVENT
END:VCALENDAR